BEGIN:VCALENDAR
VERSION:2.0
PRODID:-//darainsuredfinancial.ca - ECPv6.15.17//NONSGML v1.0//EN
CALSCALE:GREGORIAN
METHOD:PUBLISH
X-ORIGINAL-URL:https://darainsuredfinancial.ca
X-WR-CALDESC:Events for darainsuredfinancial.ca
REFRESH-INTERVAL;VALUE=DURATION:PT1H
X-Robots-Tag:noindex
X-PUBLISHED-TTL:PT1H
BEGIN:VTIMEZONE
TZID:UTC
BEGIN:STANDARD
TZOFFSETFROM:+0000
TZOFFSETTO:+0000
TZNAME:UTC
DTSTART:20230101T000000
END:STANDARD
END:VTIMEZONE
BEGIN:VEVENT
DTSTART;TZID=UTC:20241003T200000
DTEND;TZID=UTC:20241003T210000
DTSTAMP:20260421T100356
CREATED:20240929T055552Z
LAST-MODIFIED:20240929T071231Z
UID:5900-1727985600-1727989200@darainsuredfinancial.ca
SUMMARY:Six guaranteed investments in Canada!
DESCRIPTION:❓What you will learn about👇 \n🔹 What are the six guaranteed investments?\n🔹 Which one gives a higher rate of return?\n🔹 How can you invest in them? \n✏️ Registration by texting to\n👉 604 721 1897 \nOr by this link 👇 \nhttps://lnkd.in/gSaxjgHS \nKeivan Nasirnia\, MS HRD\, PFP®\nFinancial Advisor\, Personal Financial Planner®\nDara Insured Financial Services Inc. \n📲 Mobile: (604) 721-1897 \n🌐 Website:\nhttps://lnkd.in/gsG7fSu2\nEmail:\ninfo@darainsuredfinancial.ca \n💡 Book your free 30-minute online consultation session:\nhttps://lnkd.in/gvRFCycz
URL:https://darainsuredfinancial.ca/event/six-guaranteed-investments-in-canada/
ATTACH;FMTTYPE=image/jpeg:https://darainsuredfinancial.ca/wp-content/uploads/2024/09/ThursdayWebinarPhoto.jpeg
END:VEVENT
BEGIN:VEVENT
DTSTART;TZID=UTC:20241002T160000
DTEND;TZID=UTC:20241002T170000
DTSTAMP:20260421T100356
CREATED:20240927T224221Z
LAST-MODIFIED:20240927T224221Z
UID:5656-1727884800-1727888400@darainsuredfinancial.ca
SUMMARY:Wednesday Webinar
DESCRIPTION:
URL:https://darainsuredfinancial.ca/event/wednesday-webinar/
ATTACH;FMTTYPE=image/webp:https://darainsuredfinancial.ca/wp-content/uploads/2024/03/Life-insurance-Red-1.webp
END:VEVENT
END:VCALENDAR